BEGIN:VCALENDAR
VERSION:2.0
PRODID:-//Lion Sports Bar - ECPv6.13.2.1//NONSGML v1.0//EN
CALSCALE:GREGORIAN
METHOD:PUBLISH
X-ORIGINAL-URL:https://lionsportsbar.com
X-WR-CALDESC:Events for Lion Sports Bar
REFRESH-INTERVAL;VALUE=DURATION:PT1H
X-Robots-Tag:noindex
X-PUBLISHED-TTL:PT1H
BEGIN:VTIMEZONE
TZID:UTC
BEGIN:STANDARD
TZOFFSETFROM:+0000
TZOFFSETTO:+0000
TZNAME:UTC
DTSTART:20250101T000000
END:STANDARD
END:VTIMEZONE
BEGIN:VEVENT
DTSTART;TZID=UTC:20250525T110000
DTEND;TZID=UTC:20250525T130000
DTSTAMP:20260424T105854
CREATED:20250307T175302Z
LAST-MODIFIED:20250307T180338Z
UID:3182-1748170800-1748178000@lionsportsbar.com
SUMMARY:Championship Sunday 11am Premier League
DESCRIPTION:Watch all the matches at Lion Sports Bar. Doors open at 7am with kitchen open 7am.
URL:https://lionsportsbar.com/event/championship-saturday-11am-premier-league/
CATEGORIES:sport
END:VEVENT
BEGIN:VEVENT
DTSTART;TZID=UTC:20250525T090000
DTEND;TZID=UTC:20250525T110000
DTSTAMP:20260424T105854
CREATED:20250307T175442Z
LAST-MODIFIED:20250307T180320Z
UID:3184-1748163600-1748170800@lionsportsbar.com
SUMMARY:Championship Sunday 9am Serie A
DESCRIPTION:Come watch all the matches at Lion Sports Bar. Doors open at 7am with kitchen open 7am.
URL:https://lionsportsbar.com/event/championship-saturday-9am-serie-a/
CATEGORIES:sport
END:VEVENT
BEGIN:VEVENT
DTSTART;TZID=UTC:20250510T100000
DTEND;TZID=UTC:20250510T120000
DTSTAMP:20260424T105854
CREATED:20250307T175113Z
LAST-MODIFIED:20250307T180155Z
UID:3180-1746871200-1746878400@lionsportsbar.com
SUMMARY:Featured Match Liverpool v Arsenal 10am
DESCRIPTION:Come watch these two heavyweights at Lion Sports Bar. Doors open at 7am with kitchen open 7am.
URL:https://lionsportsbar.com/event/featured-match-liverpool-v-arsenal-10am/
CATEGORIES:sport
END:VEVENT
BEGIN:VEVENT
DTSTART;TZID=UTC:20250503T100000
DTEND;TZID=UTC:20250503T120000
DTSTAMP:20260424T105854
CREATED:20250307T175000Z
LAST-MODIFIED:20250307T175000Z
UID:3178-1746266400-1746273600@lionsportsbar.com
SUMMARY:Featured Match Chelsea v Liverpool 10am
DESCRIPTION:Come watch these two heavyweights at Lion Sports Bar. Doors open at 7am with kitchen open 7am.
URL:https://lionsportsbar.com/event/featured-match-chelsea-v-liverpool-10am/
CATEGORIES:sport
END:VEVENT
BEGIN:VEVENT
DTSTART;TZID=UTC:20250427T090000
DTEND;TZID=UTC:20250427T110000
DTSTAMP:20260424T105854
CREATED:20250307T180859Z
LAST-MODIFIED:20250307T180859Z
UID:3194-1745744400-1745751600@lionsportsbar.com
SUMMARY:Featured Match Inter Milan v Roma 9am
DESCRIPTION:Come watch these two heavyweights at Lion Sports Bar. Doors open at 7am with kitchen open 7am.
URL:https://lionsportsbar.com/event/featured-match-inter-milan-v-roma-9am/
CATEGORIES:sport
END:VEVENT
BEGIN:VEVENT
DTSTART;TZID=UTC:20250406T113000
DTEND;TZID=UTC:20250406T133000
DTSTAMP:20260424T105854
CREATED:20250307T174818Z
LAST-MODIFIED:20250307T174818Z
UID:3176-1743939000-1743946200@lionsportsbar.com
SUMMARY:Manchester Derby 11:30am
DESCRIPTION:Come watch the Manchester Derby at Lion Sports Bar. Doors open at 7am with kitchen open 7am.
URL:https://lionsportsbar.com/event/manchester-derby-1130am/
CATEGORIES:sport
END:VEVENT
BEGIN:VEVENT
DTSTART;TZID=UTC:20250406T090000
DTEND;TZID=UTC:20250406T230000
DTSTAMP:20260424T105854
CREATED:20250307T180634Z
LAST-MODIFIED:20250307T180634Z
UID:3192-1743930000-1743980400@lionsportsbar.com
SUMMARY:Featured Match Roma v Juventus 9am
DESCRIPTION:Come watch these two heavyweights at Lion Sports Bar. Doors open at 7am with kitchen open 7am.
URL:https://lionsportsbar.com/event/featured-match-roma-v-juventus-9am/
CATEGORIES:sport
END:VEVENT
BEGIN:VEVENT
DTSTART;TZID=UTC:20250330T144500
DTEND;TZID=UTC:20250330T164500
DTSTAMP:20260424T105854
CREATED:20250307T180512Z
LAST-MODIFIED:20250307T180924Z
UID:3190-1743345900-1743353100@lionsportsbar.com
SUMMARY:Featured Match AC Milan v Napoli
DESCRIPTION:Come watch these two heavyweights at Lion Sports Bar.
URL:https://lionsportsbar.com/event/featured-match-inter-milan-v-napoli/
CATEGORIES:sport
END:VEVENT
BEGIN:VEVENT
DTSTART;TZID=UTC:20250327T160500
DTEND;TZID=UTC:20250327T190000
DTSTAMP:20260424T105854
CREATED:20250222T060521Z
LAST-MODIFIED:20250222T060521Z
UID:3087-1743091500-1743102000@lionsportsbar.com
SUMMARY:Phillies Season Opener
DESCRIPTION:Come watch the Phillies season opener. Drink specials all game long
URL:https://lionsportsbar.com/event/phillies-season-opener/
CATEGORIES:sport
END:VEVENT
BEGIN:VEVENT
DTSTART;TZID=UTC:20250316T154500
DTEND;TZID=UTC:20250316T174500
DTSTAMP:20260424T105854
CREATED:20250307T175700Z
LAST-MODIFIED:20250307T175700Z
UID:3186-1742139900-1742147100@lionsportsbar.com
SUMMARY:Featured Match Atalanta v Inter 3:45pm
DESCRIPTION:Come watch these two heavyweights at Lion Sports Bar
URL:https://lionsportsbar.com/event/featured-match-atalanta-v-inter-345pm/
CATEGORIES:sport
END:VEVENT
BEGIN:VEVENT
DTSTART;TZID=UTC:20250316T093000
DTEND;TZID=UTC:20250316T113000
DTSTAMP:20260424T105854
CREATED:20250307T174513Z
LAST-MODIFIED:20250307T175944Z
UID:3174-1742117400-1742124600@lionsportsbar.com
SUMMARY:Featured Match Arsenal v Chelsea 9:30am
DESCRIPTION:Come watch these two heavyweights at Lion Sports Bar. Doors open at 7am with kitchen open 7am.
URL:https://lionsportsbar.com/event/featured-match-arsenal-v-chelsea-930am/
CATEGORIES:sport
END:VEVENT
END:VCALENDAR